BEGIN:VCALENDAR
VERSION:2.0
PRODID:-//DetectedX - ECPv6.15.20//NONSGML v1.0//EN
CALSCALE:GREGORIAN
METHOD:PUBLISH
X-ORIGINAL-URL:https://detectedx.com
X-WR-CALDESC:Events for DetectedX
REFRESH-INTERVAL;VALUE=DURATION:PT1H
X-Robots-Tag:noindex
X-PUBLISHED-TTL:PT1H
BEGIN:VTIMEZONE
TZID:Australia/Sydney
BEGIN:STANDARD
TZOFFSETFROM:+1100
TZOFFSETTO:+1000
TZNAME:AEST
DTSTART:20210403T160000
END:STANDARD
BEGIN:DAYLIGHT
TZOFFSETFROM:+1000
TZOFFSETTO:+1100
TZNAME:AEDT
DTSTART:20211002T160000
END:DAYLIGHT
BEGIN:STANDARD
TZOFFSETFROM:+1100
TZOFFSETTO:+1000
TZNAME:AEST
DTSTART:20220402T160000
END:STANDARD
BEGIN:DAYLIGHT
TZOFFSETFROM:+1000
TZOFFSETTO:+1100
TZNAME:AEDT
DTSTART:20221001T160000
END:DAYLIGHT
BEGIN:STANDARD
TZOFFSETFROM:+1100
TZOFFSETTO:+1000
TZNAME:AEST
DTSTART:20230401T160000
END:STANDARD
BEGIN:DAYLIGHT
TZOFFSETFROM:+1000
TZOFFSETTO:+1100
TZNAME:AEDT
DTSTART:20230930T160000
END:DAYLIGHT
END:VTIMEZONE
BEGIN:VEVENT
DTSTART;TZID=Australia/Sydney:20220704T000000
DTEND;TZID=Australia/Sydney:20220706T235959
DTSTAMP:20260423T221436
CREATED:20220608T013824Z
LAST-MODIFIED:20220608T015932Z
UID:1256-1656892800-1657151999@detectedx.com
SUMMARY:The UK Imaging and Oncology Congress (UKIO)
DESCRIPTION:
URL:https://detectedx.com/event/the-uk-imaging-and-oncology-congress-ukio/
LOCATION:ACC Liverpool\, Kings Dock\, Liverpool Waterfront\, Liverpool\, L3 4FP.\, ACC Liverpool\, Kings Dock\, Liverpool Waterfront\, Liverpool\, L3 4FP\, United Kingdom
ATTACH;FMTTYPE=image/png:https://detectedx.com/wp-content/uploads/2022/06/UKIO.png
ORGANIZER;CN="UK Imaging & Oncology (UKIO)":MAILTO:ukio@profileproductions.co.uk
END:VEVENT
END:VCALENDAR